BEGIN:VCALENDAR
VERSION:2.0
PRODID:-//185.199.220.95//NONSGML kigkonsult.se iCalcreator 2.20//
CALSCALE:GREGORIAN
METHOD:PUBLISH
X-WR-TIMEZONE:UTC
BEGIN:VEVENT
UID:event285@WASP Sandbox
DTSTAMP:20260420T160211Z
CATEGORIES:Woodwork
DESCRIPTION:Swimming\nCategory: Woodwork\nLink: https://www.sandbox.dennywa
 sp.org.uk/index.php?option=com_jem&view=event&id=285:swimming\n
DTSTART:20240902T150000Z
DTEND:20240902T160000Z
SUMMARY:Swimming
URL:https://www.sandbox.dennywasp.org.uk/index.php?option=com_jem&view=even
 t&id=285:swimming
END:VEVENT
END:VCALENDAR