BEGIN:VCALENDAR
VERSION:2.0
PRODID:-//185.199.220.95//NONSGML kigkonsult.se iCalcreator 2.20//
CALSCALE:GREGORIAN
METHOD:PUBLISH
X-WR-TIMEZONE:UTC
BEGIN:VEVENT
UID:event526@WASP Sandbox
DTSTAMP:20260420T161317Z
CATEGORIES:Intro to Printmaking
DESCRIPTION:Strength & Balance 3\nCategory: Intro to Printmaking\nLink: htt
 ps://www.sandbox.dennywasp.org.uk/index.php?option=com_jem&view=event&id=5
 26:strength-balance-3\n
DTSTART:20250114T141500Z
DTEND:20250114T151500Z
LOCATION:Art Room
SUMMARY:Strength & Balance 3
URL:https://www.sandbox.dennywasp.org.uk/index.php?option=com_jem&view=even
 t&id=526:strength-balance-3
END:VEVENT
END:VCALENDAR