BEGIN:VCALENDAR
VERSION:2.0
PRODID:-//185.199.220.95//NONSGML kigkonsult.se iCalcreator 2.20//
CALSCALE:GREGORIAN
METHOD:PUBLISH
X-WR-TIMEZONE:UTC
BEGIN:VEVENT
UID:event559@WASP Sandbox
DTSTAMP:20260420T160808Z
CATEGORIES:Spanish Class
DESCRIPTION:Spanish\nCategory: Spanish Class\nLink: https://www.sandbox.den
 nywasp.org.uk/index.php?option=com_jem&view=event&id=559:spanish\n
DTSTART:20250318T160000Z
DTEND:20250318T173000Z
LOCATION:F31
SUMMARY:Spanish
URL:https://www.sandbox.dennywasp.org.uk/index.php?option=com_jem&view=even
 t&id=559:spanish
END:VEVENT
END:VCALENDAR