BEGIN:VCALENDAR
VERSION:2.0
PRODID:-//185.199.220.95//NONSGML kigkonsult.se iCalcreator 2.20//
CALSCALE:GREGORIAN
METHOD:PUBLISH
X-WR-TIMEZONE:UTC
BEGIN:VEVENT
UID:event668@WASP Sandbox
DTSTAMP:20260420T161142Z
CATEGORIES:Music
DESCRIPTION:Italian\nCategory: Music\nLink: https://www.sandbox.dennywasp.o
 rg.uk/index.php?option=com_jem&view=event&id=668:italian\n
DTSTART:20250122T150000Z
DTEND:20250122T160000Z
LOCATION:F32
SUMMARY:Italian
URL:https://www.sandbox.dennywasp.org.uk/index.php?option=com_jem&view=even
 t&id=668:italian
END:VEVENT
END:VCALENDAR