BEGIN:VCALENDAR
VERSION:2.0
PRODID:-//185.199.220.95//NONSGML kigkonsult.se iCalcreator 2.20//
CALSCALE:GREGORIAN
METHOD:PUBLISH
X-WR-TIMEZONE:UTC
BEGIN:VEVENT
UID:event685@WASP Sandbox
DTSTAMP:20260420T161450Z
CATEGORIES:Adult Fitness
DESCRIPTION:Adult Fitness\nCategory: Adult Fitness\nLink: https://www.sandb
 ox.dennywasp.org.uk/index.php?option=com_jem&view=event&id=685:adult-fitne
 ss\n
DTSTART:20250305T085500Z
DTEND:20250305T094500Z
LOCATION:Fitness Suite
SUMMARY:Adult Fitness
URL:https://www.sandbox.dennywasp.org.uk/index.php?option=com_jem&view=even
 t&id=685:adult-fitness
END:VEVENT
END:VCALENDAR