BEGIN:VCALENDAR
VERSION:2.0
PRODID:-//185.199.220.95//NONSGML kigkonsult.se iCalcreator 2.20//
CALSCALE:GREGORIAN
METHOD:PUBLISH
X-WR-TIMEZONE:UTC
BEGIN:VEVENT
UID:event75@WASP Sandbox
DTSTAMP:20260420T173952Z
CATEGORIES:Home Devices
DESCRIPTION:Home Devices\nCategory: Home Devices\nLink: https://www.sandbox
 .dennywasp.org.uk/index.php?option=com_jem&view=event&id=75:home-devices\n
DTSTART:20241004T100000Z
DTEND:20241004T113000Z
LOCATION:Wasp IT Suite
SUMMARY:Home Devices
URL:https://www.sandbox.dennywasp.org.uk/index.php?option=com_jem&view=even
 t&id=75:home-devices
END:VEVENT
END:VCALENDAR